BEGIN:VCALENDAR

METHOD:PUBLISH
X-WR-TIMEZONE:Europe/Zurich
X-WR-CALNAME:HCM MU17
CALSCALE:GREGORIAN
VERSION:2.0

BEGIN:VTIMEZONE
TZID:Europe/Zurich
BEGIN:DAYLIGHT
TZOFFSETFROM:+0100
TZOFFSETTO:+0200
DTSTART:19810329T020000
RRULE:FREQ=YEARLY;BYMONTH=3;BYDAY=-1SU
TZNAME:CEST
END:DAYLIGHT
BEGIN:STANDARD
TZOFFSETFROM:+0200
TZOFFSETTO:+0100
DTSTART:19961027T030000
RRULE:FREQ=YEARLY;BYMONTH=10;BYDAY=-1SU
TZNAME:CET
END:STANDARD
END:VTIMEZONE

BEGIN:VEVENT
DTSTART;TZID=Europe/Zurich:20250906T150000
DTEND;TZID=Europe/Zurich:20250906T163000
SUMMARY:MU17P S1 | HC Malters ° - BSV Stans (28:39)
LOCATION:Malters Oberei
UID:mu17-38af-8613-4b65-d0f10fe33d30
END:VEVENT

BEGIN:VEVENT
DTSTART;TZID=Europe/Zurich:20250914T115500
DTEND;TZID=Europe/Zurich:20250914T132500
SUMMARY:MU17P S1 | SG Etzel ° - HC Malters ° (39:38)
LOCATION:Buttikon Sek 1 March
UID:mu17-96da-2f59-0cd7-246bbde00510
END:VEVENT

BEGIN:VEVENT
DTSTART;TZID=Europe/Zurich:20250920T180000
DTEND;TZID=Europe/Zurich:20250920T193000
SUMMARY:MU17P S1 | HC Malters ° - SG Handball Seetal ° (39:43)
LOCATION:Malters Oberei
UID:mu17-8f85-5179-6779-5eeef66c225f
END:VEVENT

BEGIN:VEVENT
DTSTART;TZID=Europe/Zurich:20251026T141500
DTEND;TZID=Europe/Zurich:20251026T154500
SUMMARY:MU17P S1 | Pallamano Ticino - HC Malters ° (43:39)
LOCATION:Biasca Centro Professionale
UID:mu17-8f53-295a-7387-8494e9bc8dd6
END:VEVENT

BEGIN:VEVENT
DTSTART;TZID=Europe/Zurich:20251101T150000
DTEND;TZID=Europe/Zurich:20251101T163000
SUMMARY:MU17P S1 | HC Malters ° - SG Ruswil Wolhusen (23:37)
LOCATION:Malters Oberei
UID:mu17-0451-17b0-e0a1-1a242b9765e7
END:VEVENT

BEGIN:VEVENT
DTSTART;TZID=Europe/Zurich:20251108T130000
DTEND;TZID=Europe/Zurich:20251108T143000
SUMMARY:MU17P S1 | SG Reuss - HC Malters ° (32:29)
LOCATION:Kriens Meiersmatt
UID:mu17-fc22-1309-7460-13ac554571fb
END:VEVENT

BEGIN:VEVENT
DTSTART;TZID=Europe/Zurich:20251109T170000
DTEND;TZID=Europe/Zurich:20251109T183000
SUMMARY:MU17P S1 | HSV Säuliamt - HC Malters ° (26:29)
LOCATION:Affoltern a/A Stigeli
UID:mu17-8216-1242-827b-703e6acf9c72
END:VEVENT

BEGIN:VEVENT
DTSTART;TZID=Europe/Zurich:20251115T100000
DTEND;TZID=Europe/Zurich:20251115T113000
SUMMARY:MU17P S1 | STV Willisau - HC Malters ° (36:33)
LOCATION:Willisau Hallenbad
UID:mu17-4c5b-de74-a8f1-10656874902f
END:VEVENT

BEGIN:VEVENT
DTSTART;TZID=Europe/Zurich:20251116T120000
DTEND;TZID=Europe/Zurich:20251116T133000
SUMMARY:R-Cup MU17 | HC Malters ° - BSV Stans (36:22)
LOCATION:Malters Oberei
UID:mu17-cb70-ab37-5662-576bd1ac5aaf
END:VEVENT

BEGIN:VEVENT
DTSTART;TZID=Europe/Zurich:20251122T170000
DTEND;TZID=Europe/Zurich:20251122T183000
SUMMARY:MU17P S1 | HC Malters ° - SG Wiggertal (27:34)
LOCATION:Malters Oberei
UID:mu17-cede-bb6e-872f-539bef8c3f91
END:VEVENT

BEGIN:VEVENT
DTSTART;TZID=Europe/Zurich:20260110T133000
DTEND;TZID=Europe/Zurich:20260110T150000
SUMMARY:MU17P S1 | HC Malters ° - Pallamano Ticino (44:33)
LOCATION:Malters Oberei
UID:mu17-502e-4a16-930e-414107ee22b6
END:VEVENT

BEGIN:VEVENT
DTSTART;TZID=Europe/Zurich:20260117T141500
DTEND;TZID=Europe/Zurich:20260117T154500
SUMMARY:MU17P S1 | SG Reuss - HC Malters ° (43:21)
LOCATION:Luzern Maihof
UID:mu17-cfa0-860e-83a4-c3a763a7e62d
END:VEVENT

BEGIN:VEVENT
DTSTART;TZID=Europe/Zurich:20260201T133000
DTEND;TZID=Europe/Zurich:20260201T150000
SUMMARY:R-Cup MU17 | HC Malters ° - BSV RW Sursee * (32:55)
LOCATION:Malters Oberei
UID:mu17-9188-905e-74c2-8e489b44e954
END:VEVENT

BEGIN:VEVENT
DTSTART;TZID=Europe/Zurich:20260221T133000
DTEND;TZID=Europe/Zurich:20260221T150000
SUMMARY:MU17P S1 | HC Malters ° - STV Willisau (23:50)
LOCATION:Malters Oberei
UID:mu17-3666-0e59-856b-4de58a219bcf
END:VEVENT

BEGIN:VEVENT
DTSTART;TZID=Europe/Zurich:20260308T171000
DTEND;TZID=Europe/Zurich:20260308T184000
SUMMARY:MU17P S1 | HC Malters ° - HSV Säuliamt (42:35)
LOCATION:Malters Oberei
UID:mu17-a4f2-3670-e183-3f3fdb077ca7
END:VEVENT

BEGIN:VEVENT
DTSTART;TZID=Europe/Zurich:20260321T160000
DTEND;TZID=Europe/Zurich:20260321T173000
SUMMARY:MU17P S1 | Handball Emmen - HC Malters ° (53:16)
LOCATION:Emmen Rossmoos
UID:mu17-8c19-f571-e251-e61cb8dd3612
END:VEVENT

BEGIN:VEVENT
DTSTART;TZID=Europe/Zurich:20260328T154500
DTEND;TZID=Europe/Zurich:20260328T171500
SUMMARY:MU17P S1 | HC Malters ° - SG Wiggertal
LOCATION:Malters Oberei
UID:mu17-d6ba-f65e-0b24-0ce177cf70da
END:VEVENT

BEGIN:VEVENT
DTSTART;TZID=Europe/Zurich:20260329T000000
DTEND;TZID=Europe/Zurich:20260329T013000
SUMMARY:MU17P S1 | SG Etzel ° - HC Malters °
LOCATION:
UID:mu17-b1a5-9b31-5fc9-a3002ce38bbe
END:VEVENT

END:VCALENDAR
